BEGIN:VCALENDAR
VERSION:2.0
PRODID:-//Speedboat Bar - ECPv5.16.4//NONSGML v1.0//EN
CALSCALE:GREGORIAN
METHOD:PUBLISH
X-WR-CALNAME:Speedboat Bar
X-ORIGINAL-URL:https://speedboatbar.co.uk
X-WR-CALDESC:Events for Speedboat Bar
REFRESH-INTERVAL;VALUE=DURATION:PT1H
X-Robots-Tag:noindex
X-PUBLISHED-TTL:PT1H
BEGIN:VTIMEZONE
TZID:UTC
BEGIN:STANDARD
TZOFFSETFROM:+0000
TZOFFSETTO:+0000
TZNAME:UTC
DTSTART:20260101T000000
END:STANDARD
END:VTIMEZONE
BEGIN:VEVENT
DTSTART;TZID=UTC:20260126T000000
DTEND;TZID=UTC:20260126T235959
DTSTAMP:20260422T154621
CREATED:20260121T094750Z
LAST-MODIFIED:20260121T094750Z
UID:2721-1769385600-1769471999@speedboatbar.co.uk
SUMMARY:NEW MENU SPEEDBOAT NOTTING HILL
DESCRIPTION:We are excited to introduce our new menu at Speedboat Bar Notting Hill\, including showstoppers like braised duck noodles and a seafood sizzler. \nBook Notting Hill HERE!
URL:https://speedboatbar.co.uk/event/new-menu-speedboat-notting-hill/
END:VEVENT
END:VCALENDAR